BEGIN:VCALENDAR
VERSION:2.0
PRODID:-//Wielerbreedtesport Federatie Nederland - ECPv6.15.15//NONSGML v1.0//EN
CALSCALE:GREGORIAN
METHOD:PUBLISH
X-ORIGINAL-URL:https://wfn-online.nl
X-WR-CALDESC:Evenementen voor Wielerbreedtesport Federatie Nederland
REFRESH-INTERVAL;VALUE=DURATION:PT1H
X-Robots-Tag:noindex
X-PUBLISHED-TTL:PT1H
BEGIN:VTIMEZONE
TZID:Europe/Amsterdam
BEGIN:DAYLIGHT
TZOFFSETFROM:+0100
TZOFFSETTO:+0200
TZNAME:CEST
DTSTART:20250330T010000
END:DAYLIGHT
BEGIN:STANDARD
TZOFFSETFROM:+0200
TZOFFSETTO:+0100
TZNAME:CET
DTSTART:20251026T010000
END:STANDARD
BEGIN:DAYLIGHT
TZOFFSETFROM:+0100
TZOFFSETTO:+0200
TZNAME:CEST
DTSTART:20260329T010000
END:DAYLIGHT
BEGIN:STANDARD
TZOFFSETFROM:+0200
TZOFFSETTO:+0100
TZNAME:CET
DTSTART:20261025T010000
END:STANDARD
BEGIN:DAYLIGHT
TZOFFSETFROM:+0100
TZOFFSETTO:+0200
TZNAME:CEST
DTSTART:20270328T010000
END:DAYLIGHT
BEGIN:STANDARD
TZOFFSETFROM:+0200
TZOFFSETTO:+0100
TZNAME:CET
DTSTART:20271031T010000
END:STANDARD
END:VTIMEZONE
BEGIN:VEVENT
DTSTART;TZID=Europe/Amsterdam:20260412T103000
DTEND;TZID=Europe/Amsterdam:20260412T143000
DTSTAMP:20260421T132027
CREATED:20251114T131411Z
LAST-MODIFIED:20260128T153149Z
UID:505-1775989800-1776004200@wfn-online.nl
SUMMARY:BWF Terheijden
DESCRIPTION:A-wedstrijd met 4 categorieen \nWederom op het parcours aan de noordzijde van het dorp\, waar in 2021 het kampioenschap werd verreden. Lengte van de ronde is 2.500 meter. Wegdek is 100% asfalt. We rijden rechtsom over de Molenstraat\, Laakdijk\, Schuivenoordseweg\, Moerdijkseweg. Start/finish is bij de Molenstraat 75\, Handelskwekerij Snoeren. Belangrijke informatie over parkeren en bereikbaarheid. We houden het parcours totaal autovrij! Het is niet mogelijk om op of aan het parkoers (nabij de molen van Terheijden) te parkeren. Gelieve naar het parkoers te komen vanaf Zevenbergschenhoek of door het dorp Wagenberg. Zo niet\, dan is de enige parkeer gelegenheid bij de carpool-plaats bij de brandweer\, direct bij “afslag Vaartkant” Terheijden\, zo’n 2 km. verwijderd van de molen.
URL:https://wfn-online.nl/evenement/terheijden/
LOCATION:Privé: Terheijden\, Terheijden
CATEGORIES:BWF
ORGANIZER;CN="BWF":MAILTO:info@brabantsewielerfederatie.nl
END:VEVENT
END:VCALENDAR