BEGIN:VCALENDAR
VERSION:2.0
PRODID:-//Wielerbreedtesport Federatie Nederland - ECPv6.15.15//NONSGML v1.0//EN
CALSCALE:GREGORIAN
METHOD:PUBLISH
X-ORIGINAL-URL:https://wfn-online.nl
X-WR-CALDESC:Evenementen voor Wielerbreedtesport Federatie Nederland
REFRESH-INTERVAL;VALUE=DURATION:PT1H
X-Robots-Tag:noindex
X-PUBLISHED-TTL:PT1H
BEGIN:VTIMEZONE
TZID:Europe/Amsterdam
BEGIN:DAYLIGHT
TZOFFSETFROM:+0100
TZOFFSETTO:+0200
TZNAME:CEST
DTSTART:20250330T010000
END:DAYLIGHT
BEGIN:STANDARD
TZOFFSETFROM:+0200
TZOFFSETTO:+0100
TZNAME:CET
DTSTART:20251026T010000
END:STANDARD
BEGIN:DAYLIGHT
TZOFFSETFROM:+0100
TZOFFSETTO:+0200
TZNAME:CEST
DTSTART:20260329T010000
END:DAYLIGHT
BEGIN:STANDARD
TZOFFSETFROM:+0200
TZOFFSETTO:+0100
TZNAME:CET
DTSTART:20261025T010000
END:STANDARD
BEGIN:DAYLIGHT
TZOFFSETFROM:+0100
TZOFFSETTO:+0200
TZNAME:CEST
DTSTART:20270328T010000
END:DAYLIGHT
BEGIN:STANDARD
TZOFFSETFROM:+0200
TZOFFSETTO:+0100
TZNAME:CET
DTSTART:20271031T010000
END:STANDARD
END:VTIMEZONE
BEGIN:VEVENT
DTSTART;TZID=Europe/Amsterdam:20260510T103000
DTEND;TZID=Europe/Amsterdam:20260510T160000
DTSTAMP:20260420T014838
CREATED:20251118T174809Z
LAST-MODIFIED:20260128T153647Z
UID:546-1778409000-1778428800@wfn-online.nl
SUMMARY:BWF Vosselaar (B)
DESCRIPTION:A-wedstrijd met 4 categorieen : 50+ en S/P \, 50- en amateurs \nHet parcour is 2\,9 km lang en is bestaat voor 75% uit asvalt. Het startpunt is bij diepvenneke sportcentrum\, 2350 Vosselaar. Maak kans op de regionale kampioen trui! Ben je uit de regio: Vosselaar\,groot  Lille\,zoersel\,Malle Groot Hoogstraten\, Merksplas\, Ravels\, Turnhout\, Oud Turnhout\, Beerse\, Brecht\, Kasterlee of Tielen? Dan maak je kans op de trui! Niet uit de regio? Geen probleem\, je mag nog altijd deelnemen!
URL:https://wfn-online.nl/evenement/vosselaar-b/
LOCATION:Vosselaar (B)\, Diepvenneke 36\, Vosselaar\, Belgium
CATEGORIES:BWF
ORGANIZER;CN="BWF":MAILTO:info@brabantsewielerfederatie.nl
END:VEVENT
END:VCALENDAR