BEGIN:VCALENDAR
VERSION:2.0
PRODID:-//Wielerbreedtesport Federatie Nederland - ECPv6.15.15//NONSGML v1.0//EN
CALSCALE:GREGORIAN
METHOD:PUBLISH
X-WR-CALNAME:Wielerbreedtesport Federatie Nederland
X-ORIGINAL-URL:https://wfn-online.nl
X-WR-CALDESC:Evenementen voor Wielerbreedtesport Federatie Nederland
REFRESH-INTERVAL;VALUE=DURATION:PT1H
X-Robots-Tag:noindex
X-PUBLISHED-TTL:PT1H
BEGIN:VTIMEZONE
TZID:Europe/Amsterdam
BEGIN:DAYLIGHT
TZOFFSETFROM:+0100
TZOFFSETTO:+0200
TZNAME:CEST
DTSTART:20250330T010000
END:DAYLIGHT
BEGIN:STANDARD
TZOFFSETFROM:+0200
TZOFFSETTO:+0100
TZNAME:CET
DTSTART:20251026T010000
END:STANDARD
BEGIN:DAYLIGHT
TZOFFSETFROM:+0100
TZOFFSETTO:+0200
TZNAME:CEST
DTSTART:20260329T010000
END:DAYLIGHT
BEGIN:STANDARD
TZOFFSETFROM:+0200
TZOFFSETTO:+0100
TZNAME:CET
DTSTART:20261025T010000
END:STANDARD
BEGIN:DAYLIGHT
TZOFFSETFROM:+0100
TZOFFSETTO:+0200
TZNAME:CEST
DTSTART:20270328T010000
END:DAYLIGHT
BEGIN:STANDARD
TZOFFSETFROM:+0200
TZOFFSETTO:+0100
TZNAME:CET
DTSTART:20271031T010000
END:STANDARD
END:VTIMEZONE
BEGIN:VEVENT
DTSTART;TZID=Europe/Amsterdam:20260517T103000
DTEND;TZID=Europe/Amsterdam:20260517T143000
DTSTAMP:20260420T014706
CREATED:20251114T133823Z
LAST-MODIFIED:20260128T153747Z
UID:516-1779013800-1779028200@wfn-online.nl
SUMMARY:BWF Roosendaal
DESCRIPTION:A-wedstrijd met 4 categorieen \n00% asfaltronde van 3\,4 km. \nDe ronde wordt linksom gereden vanaf het vertrek in de Puitenbroekstraat (start/finish) naar rechts de Vogelenzangstraat in\, aan het eind naar links de Korte Zegstraat in\, die over gaat in de Meirestraat. Eind Meirestraat naar links de Puitenbroekstraat indraaien naar de finish. Op het zeer open parcours in Roosendaal zijn alle ingrediënten aanwezig om er een spannende koersvan te maken. Het parcours kent een venijnig klimmetje wat elke 3\,4 km weer voor de wielen komt. Ook de wind heeft vrij spel op het aan de rand van Roosendaal gelegen parcours. Het is overigens een technisch eenvoudig asfaltparcours met goed lopende bochten. Ook voor het publiek is het een leuke ronde om naar te kijken. Strategisch opgesteld\, zijn de renners over een groot deel van de route te volgen. Meer uitgebreide informatie is te vinden op de website van de organisator: www.sportfrinten.nl. Neem op dit site vooral even een kijkje! Sportfrinten organiseert meerdere koersen met de BWF.
URL:https://wfn-online.nl/evenement/roosendaal/
LOCATION:Privé: Roosendaal\, Roosendaal
CATEGORIES:BWF
ORGANIZER;CN="BWF":MAILTO:info@brabantsewielerfederatie.nl
END:VEVENT
END:VCALENDAR