BEGIN:VCALENDAR
VERSION:2.0
PRODID:-//Wielerbreedtesport Federatie Nederland - ECPv6.15.15//NONSGML v1.0//EN
CALSCALE:GREGORIAN
METHOD:PUBLISH
X-WR-CALNAME:Wielerbreedtesport Federatie Nederland
X-ORIGINAL-URL:https://wfn-online.nl
X-WR-CALDESC:Evenementen voor Wielerbreedtesport Federatie Nederland
REFRESH-INTERVAL;VALUE=DURATION:PT1H
X-Robots-Tag:noindex
X-PUBLISHED-TTL:PT1H
BEGIN:VTIMEZONE
TZID:Europe/Amsterdam
BEGIN:DAYLIGHT
TZOFFSETFROM:+0100
TZOFFSETTO:+0200
TZNAME:CEST
DTSTART:20250330T010000
END:DAYLIGHT
BEGIN:STANDARD
TZOFFSETFROM:+0200
TZOFFSETTO:+0100
TZNAME:CET
DTSTART:20251026T010000
END:STANDARD
BEGIN:DAYLIGHT
TZOFFSETFROM:+0100
TZOFFSETTO:+0200
TZNAME:CEST
DTSTART:20260329T010000
END:DAYLIGHT
BEGIN:STANDARD
TZOFFSETFROM:+0200
TZOFFSETTO:+0100
TZNAME:CET
DTSTART:20261025T010000
END:STANDARD
BEGIN:DAYLIGHT
TZOFFSETFROM:+0100
TZOFFSETTO:+0200
TZNAME:CEST
DTSTART:20270328T010000
END:DAYLIGHT
BEGIN:STANDARD
TZOFFSETFROM:+0200
TZOFFSETTO:+0100
TZNAME:CET
DTSTART:20271031T010000
END:STANDARD
END:VTIMEZONE
BEGIN:VEVENT
DTSTART;VALUE=DATE:20260614
DTEND;VALUE=DATE:20260615
DTSTAMP:20260420T031350
CREATED:20251114T165224Z
LAST-MODIFIED:20260128T154249Z
UID:521-1781395200-1781481599@wfn-online.nl
SUMMARY:WFN/BWF SCHIJF N.K. WFN Weg
DESCRIPTION:Nederlands kampioenschap alle bonden incl. KNWU \nOp een paar honderd meter klinkers na een prachtige asfaltronde van 7\,5 km\nDe ronde wordt linksom gereden vanaf het vertrek in de Hoeksestraat (start/finish) naar links de de Roosendaalsebaan in de Roosendaalsebaan gaat over in de Nederheidsebaan. Aan het einde van de Nederheidsebaan weer naar links de Achtmaalsebaan in om het bos uitkomend weer links de Hoeksestraat in te duiken richting de finish.
URL:https://wfn-online.nl/evenement/schijf-n-k/
LOCATION:Privé: Schijf\, Zoeksedijk 6\, Schijf\, Netherlands
CATEGORIES:BWF,WFN
ORGANIZER;CN="BWF":MAILTO:info@brabantsewielerfederatie.nl
END:VEVENT
END:VCALENDAR