BEGIN:VCALENDAR
VERSION:2.0
PRODID:-//Wielerbreedtesport Federatie Nederland - ECPv6.15.15//NONSGML v1.0//EN
CALSCALE:GREGORIAN
METHOD:PUBLISH
X-ORIGINAL-URL:https://wfn-online.nl
X-WR-CALDESC:Evenementen voor Wielerbreedtesport Federatie Nederland
REFRESH-INTERVAL;VALUE=DURATION:PT1H
X-Robots-Tag:noindex
X-PUBLISHED-TTL:PT1H
BEGIN:VTIMEZONE
TZID:Europe/Amsterdam
BEGIN:DAYLIGHT
TZOFFSETFROM:+0100
TZOFFSETTO:+0200
TZNAME:CEST
DTSTART:20250330T010000
END:DAYLIGHT
BEGIN:STANDARD
TZOFFSETFROM:+0200
TZOFFSETTO:+0100
TZNAME:CET
DTSTART:20251026T010000
END:STANDARD
BEGIN:DAYLIGHT
TZOFFSETFROM:+0100
TZOFFSETTO:+0200
TZNAME:CEST
DTSTART:20260329T010000
END:DAYLIGHT
BEGIN:STANDARD
TZOFFSETFROM:+0200
TZOFFSETTO:+0100
TZNAME:CET
DTSTART:20261025T010000
END:STANDARD
BEGIN:DAYLIGHT
TZOFFSETFROM:+0100
TZOFFSETTO:+0200
TZNAME:CEST
DTSTART:20270328T010000
END:DAYLIGHT
BEGIN:STANDARD
TZOFFSETFROM:+0200
TZOFFSETTO:+0100
TZNAME:CET
DTSTART:20271031T010000
END:STANDARD
END:VTIMEZONE
BEGIN:VEVENT
DTSTART;TZID=Europe/Amsterdam:20260705T103000
DTEND;TZID=Europe/Amsterdam:20260705T163000
DTSTAMP:20260420T031635
CREATED:20251114T165714Z
LAST-MODIFIED:20260128T154535Z
UID:524-1783247400-1783269000@wfn-online.nl
SUMMARY:BWF kampioenschap Rijsbergen-Pannenhoef
DESCRIPTION:BWF-kampioenschap :  Open inschrijving alle bonden t/m amateurnivo \nVerlengde afstanden iedere categorie.  Verhoogd prijzenschema. \nStart/Finish : Hoefstraat 1. Parcours : Hoefstraat – Pannenhoefsebaan – Ettensebaan – Tiggeltsebergstraat en wederom Hoefstraat. Rijrichting : Rechtsom. Lengte : 5200 mtr.  (98% asfalt).
URL:https://wfn-online.nl/evenement/rijsbergen-pannenhoef/
LOCATION:Privé: Rijsbergen\, Hoefstraat 1\, Rijsbergen\, 4891ZE\, Netherlands
CATEGORIES:BWF
ORGANIZER;CN="BWF":MAILTO:info@brabantsewielerfederatie.nl
END:VEVENT
END:VCALENDAR