BEGIN:VCALENDAR
VERSION:2.0
PRODID:-//Wielerbreedtesport Federatie Nederland - ECPv6.15.15//NONSGML v1.0//EN
CALSCALE:GREGORIAN
METHOD:PUBLISH
X-ORIGINAL-URL:https://wfn-online.nl
X-WR-CALDESC:Evenementen voor Wielerbreedtesport Federatie Nederland
REFRESH-INTERVAL;VALUE=DURATION:PT1H
X-Robots-Tag:noindex
X-PUBLISHED-TTL:PT1H
BEGIN:VTIMEZONE
TZID:Europe/Amsterdam
BEGIN:DAYLIGHT
TZOFFSETFROM:+0100
TZOFFSETTO:+0200
TZNAME:CEST
DTSTART:20250330T010000
END:DAYLIGHT
BEGIN:STANDARD
TZOFFSETFROM:+0200
TZOFFSETTO:+0100
TZNAME:CET
DTSTART:20251026T010000
END:STANDARD
BEGIN:DAYLIGHT
TZOFFSETFROM:+0100
TZOFFSETTO:+0200
TZNAME:CEST
DTSTART:20260329T010000
END:DAYLIGHT
BEGIN:STANDARD
TZOFFSETFROM:+0200
TZOFFSETTO:+0100
TZNAME:CET
DTSTART:20261025T010000
END:STANDARD
BEGIN:DAYLIGHT
TZOFFSETFROM:+0100
TZOFFSETTO:+0200
TZNAME:CEST
DTSTART:20270328T010000
END:DAYLIGHT
BEGIN:STANDARD
TZOFFSETFROM:+0200
TZOFFSETTO:+0100
TZNAME:CET
DTSTART:20271031T010000
END:STANDARD
END:VTIMEZONE
BEGIN:VEVENT
DTSTART;TZID=Europe/Amsterdam:20260816T103000
DTEND;TZID=Europe/Amsterdam:20260816T120000
DTSTAMP:20260420T080848
CREATED:20251114T173428Z
LAST-MODIFIED:20260128T111738Z
UID:538-1786876200-1786881600@wfn-online.nl
SUMMARY:BWF Breda-Moleneind Zomercompetitie
DESCRIPTION:Alle categorieen rijden samen in 1 categorie.   Eindklassement over 5 zondagen
URL:https://wfn-online.nl/evenement/breda-moleneinde-zomercompetitie-5/
LOCATION:Privé: Breda\, Heusing 8\, Breda\, Netherlands
CATEGORIES:BWF
ORGANIZER;CN="BWF":MAILTO:info@brabantsewielerfederatie.nl
END:VEVENT
BEGIN:VEVENT
DTSTART;TZID=Europe/Amsterdam:20260830T100000
DTEND;TZID=Europe/Amsterdam:20260830T130000
DTSTAMP:20260420T080849
CREATED:20251114T173951Z
LAST-MODIFIED:20260205T202022Z
UID:540-1788084000-1788094800@wfn-online.nl
SUMMARY:BWF: Teteringen
DESCRIPTION:B-wedstrijd \nEén van de laatste in zijn soort; het dorpscriterium door het centrum van Teteringen. De ronde is 1.3 kilometer lang\, rondom de kerk\, met vele premies en een verzekerde ambiance. Start/Finish ligt in de Willebrordstraat\, ter hoogte van Café de Dorpsherberg. Let op: de starttijden zijn een half uur vroeger dan normaal\, dus de 50+ om 10.00 en de 50- om 11.30 uur. Deze koers is bedreigd cultureel erfgoed\, dat alleen kan voortbestaan bij voldoende deelname!
URL:https://wfn-online.nl/evenement/teteringen/
LOCATION:Privé: Teteringen\, Willen Alexanderplein 4\, Teteringen\, Netherlands
CATEGORIES:BWF
ORGANIZER;CN="BWF":MAILTO:info@brabantsewielerfederatie.nl
END:VEVENT
BEGIN:VEVENT
DTSTART;TZID=Europe/Amsterdam:20260906T103000
DTEND;TZID=Europe/Amsterdam:20260906T133000
DTSTAMP:20260420T080849
CREATED:20260117T145838Z
LAST-MODIFIED:20260128T155003Z
UID:818-1788690600-1788701400@wfn-online.nl
SUMMARY:BWF Tilburg (Pijnenburg parcours)
DESCRIPTION:Wedstrijd met 4 categorieen :  50+ en S/P samen  \,  50- en amateurs samen. \nSinds 1991 heeft TWC Pijnenburg de beschikking over een eigen accommodatie. Deze bestaat uit een volledig geasfalteerd wielerparcours van ca. 2100 meter\, welke opgedeeld kan worden in 3 verschillende banen. Baan 1 is 500 en baan 2 ca. 1150 meter lang. Deze twee banen zijn niet alleen geschikt voor wielrennen\, maar ook voor andere activiteiten zoals: skeeleren\, snelwandelen\, hardlopen\, Nordic Walking\, e.d. en zijn voorzien van verlichting. Baan 3 is 415 meter en heeft licht oplopende bochten net zoals bij een wielerbaan. Tijdens de BWF wedstrijd wordt het volledige parcours gebruikt van 2050 mtr. Naast het wegparcours heeft TWC Pijnenburg in 2003 een veldrit-/mountainbike parcours aangelegd. In dit parcours is naast een groot aantal groenstroken ook een 50 meter lange zandbak\, twee grote hellingen\, diverse hindernissen en een stuk bospad opgenomen. Vanaf begin 2011 is er een nieuw clubhuis en daar is tevens de permanence. Tevens is er kleed- en douchegelegenheid aanwezig.
URL:https://wfn-online.nl/evenement/bwf-tilburg-pijnenburg-parcours/
LOCATION:Tilburg\, Bijsterveldenlaan\, Tilburg\, Netherlands
CATEGORIES:BWF
ORGANIZER;CN="BWF":MAILTO:info@brabantsewielerfederatie.nl
END:VEVENT
BEGIN:VEVENT
DTSTART;TZID=Europe/Amsterdam:20260920T103000
DTEND;TZID=Europe/Amsterdam:20260920T140000
DTSTAMP:20260420T080849
CREATED:20260128T174817Z
LAST-MODIFIED:20260128T175422Z
UID:1028-1789900200-1789912800@wfn-online.nl
SUMMARY:BWF Nispen-Borteldonk (sluitingskoers)
DESCRIPTION:De BWF Ronde van ‘Peet’s Bloemenshop’ Borteldonk \nA-wedstrijd met 4 categorieen t/m amateurnivo.  Ook voor nieuwelingen en junioren. \nParcours: Zonnelandstraat\, Oude Turfvaartsestraat\, Vierhoevenstraat en Nispenseweg (we rijden linksom) Lengte parcours: 4.400 meter Wegdek: 100% asfalt Start/finish: Zonnelandstraat 6
URL:https://wfn-online.nl/evenement/bwf-nispen-borteldonk-sluitingskoers/
LOCATION:Privé: Nispen\, Zonnelandstraat 6\, Nispen\, Netherlands
CATEGORIES:BWF
ORGANIZER;CN="BWF":MAILTO:info@brabantsewielerfederatie.nl
END:VEVENT
END:VCALENDAR