BEGIN:VCALENDAR
VERSION:2.0
PRODID:-//Wielerbreedtesport Federatie Nederland - ECPv6.15.15//NONSGML v1.0//EN
CALSCALE:GREGORIAN
METHOD:PUBLISH
X-WR-CALNAME:Wielerbreedtesport Federatie Nederland
X-ORIGINAL-URL:https://wfn-online.nl
X-WR-CALDESC:Evenementen voor Wielerbreedtesport Federatie Nederland
REFRESH-INTERVAL;VALUE=DURATION:PT1H
X-Robots-Tag:noindex
X-PUBLISHED-TTL:PT1H
BEGIN:VTIMEZONE
TZID:Europe/Amsterdam
BEGIN:DAYLIGHT
TZOFFSETFROM:+0100
TZOFFSETTO:+0200
TZNAME:CEST
DTSTART:20250330T010000
END:DAYLIGHT
BEGIN:STANDARD
TZOFFSETFROM:+0200
TZOFFSETTO:+0100
TZNAME:CET
DTSTART:20251026T010000
END:STANDARD
BEGIN:DAYLIGHT
TZOFFSETFROM:+0100
TZOFFSETTO:+0200
TZNAME:CEST
DTSTART:20260329T010000
END:DAYLIGHT
BEGIN:STANDARD
TZOFFSETFROM:+0200
TZOFFSETTO:+0100
TZNAME:CET
DTSTART:20261025T010000
END:STANDARD
BEGIN:DAYLIGHT
TZOFFSETFROM:+0100
TZOFFSETTO:+0200
TZNAME:CEST
DTSTART:20270328T010000
END:DAYLIGHT
BEGIN:STANDARD
TZOFFSETFROM:+0200
TZOFFSETTO:+0100
TZNAME:CET
DTSTART:20271031T010000
END:STANDARD
END:VTIMEZONE
BEGIN:VEVENT
DTSTART;TZID=Europe/Amsterdam:20260913T110000
DTEND;TZID=Europe/Amsterdam:20260913T190000
DTSTAMP:20260420T063743
CREATED:20260117T175852Z
LAST-MODIFIED:20260127T131211Z
UID:901-1789297200-1789326000@wfn-online.nl
SUMMARY:KNWU Hank
DESCRIPTION:
URL:https://wfn-online.nl/evenement/hank/
LOCATION:Friesland
CATEGORIES:KNWU
END:VEVENT
BEGIN:VEVENT
DTSTART;TZID=Europe/Amsterdam:20260915T184500
DTEND;TZID=Europe/Amsterdam:20260915T200000
DTSTAMP:20260420T063743
CREATED:20260131T124345Z
LAST-MODIFIED:20260206T122252Z
UID:1105-1789497900-1789502400@wfn-online.nl
SUMMARY:WVS: WV Snits-Bokaal Sneek
DESCRIPTION:
URL:https://wfn-online.nl/evenement/wvs-wv-snits-bokaal/
LOCATION:Sneek\, Thomas Zandstrastraat 1\, Sneek\, Friesland\, 8602 CW\, Netherlands
CATEGORIES:WVS
ORGANIZER;CN="WV Snits":MAILTO:secretaris@wvsnits.nl
END:VEVENT
BEGIN:VEVENT
DTSTART;TZID=Europe/Amsterdam:20260919T080000
DTEND;TZID=Europe/Amsterdam:20260919T170000
DTSTAMP:20260420T063743
CREATED:20260129T080251Z
LAST-MODIFIED:20260205T083750Z
UID:1065-1789804800-1789837200@wfn-online.nl
SUMMARY:TMZ: Kwadendamme
DESCRIPTION:www.tmzzeeland.nl \n  \nAmateurs 17:30 \nsportklasse 16:00 \nS/P 17:31
URL:https://wfn-online.nl/evenement/kwadendamme/
LOCATION:Friesland
CATEGORIES:TMZ
END:VEVENT
BEGIN:VEVENT
DTSTART;TZID=Europe/Amsterdam:20260920T103000
DTEND;TZID=Europe/Amsterdam:20260920T140000
DTSTAMP:20260420T063743
CREATED:20260128T174817Z
LAST-MODIFIED:20260128T175422Z
UID:1028-1789900200-1789912800@wfn-online.nl
SUMMARY:BWF Nispen-Borteldonk (sluitingskoers)
DESCRIPTION:De BWF Ronde van ‘Peet’s Bloemenshop’ Borteldonk \nA-wedstrijd met 4 categorieen t/m amateurnivo.  Ook voor nieuwelingen en junioren. \nParcours: Zonnelandstraat\, Oude Turfvaartsestraat\, Vierhoevenstraat en Nispenseweg (we rijden linksom) Lengte parcours: 4.400 meter Wegdek: 100% asfalt Start/finish: Zonnelandstraat 6
URL:https://wfn-online.nl/evenement/bwf-nispen-borteldonk-sluitingskoers/
LOCATION:Privé: Nispen\, Zonnelandstraat 6\, Nispen\, Netherlands
CATEGORIES:BWF
ORGANIZER;CN="BWF":MAILTO:info@brabantsewielerfederatie.nl
END:VEVENT
BEGIN:VEVENT
DTSTART;TZID=Europe/Amsterdam:20260920T130000
DTEND;TZID=Europe/Amsterdam:20260920T170000
DTSTAMP:20260420T063743
CREATED:20251203T154138Z
LAST-MODIFIED:20260109T225952Z
UID:619-1789909200-1789923600@wfn-online.nl
SUMMARY:NWB: Vessem
DESCRIPTION:MTB Streetrace\ndiverse leeftijdscategorieën van jeugd tot licentiehouders \nInfo: www.wielrenbond.nl\nInschrijven: www.wielrenbond.nl
URL:https://wfn-online.nl/evenement/vessem/
LOCATION:Privé: Vessem\, Jan Smuldersstraat\, Vessem\, Netherlands
CATEGORIES:NWB
ORGANIZER;CN="NWB":MAILTO:info@wielrenbond.nl
END:VEVENT
BEGIN:VEVENT
DTSTART;TZID=Europe/Amsterdam:20260922T183000
DTEND;TZID=Europe/Amsterdam:20260922T194500
DTSTAMP:20260420T063743
CREATED:20260206T115814Z
LAST-MODIFIED:20260206T115814Z
UID:1218-1790101800-1790106300@wfn-online.nl
SUMMARY:WVS: Baantrainingswedstrijd Sneek
DESCRIPTION:
URL:https://wfn-online.nl/evenement/wvs-baantrainingswedstrijd-sneek-20/
LOCATION:Sneek\, Thomas Zandstrastraat 1\, Sneek\, Friesland\, 8602 CW\, Netherlands
CATEGORIES:WVS
ORGANIZER;CN="WV Snits":MAILTO:secretaris@wvsnits.nl
END:VEVENT
BEGIN:VEVENT
DTSTART;VALUE=DATE:20260927
DTEND;VALUE=DATE:20260928
DTSTAMP:20260420T063743
CREATED:20251113T231331Z
LAST-MODIFIED:20260302T222312Z
UID:482-1790467200-1790553599@wfn-online.nl
SUMMARY:NWB: GrensLand Klassieker
DESCRIPTION:Klassieker\, Omloop\, Someren-Eind\nBennenbroekstraat\, Someren-Eind\, 99 kilometer (9 omlopen van 11 km)\n12:00 uur Amateurs/Masters/Junioren
URL:https://wfn-online.nl/evenement/grensland-klassieker/
LOCATION:Someren-Eind\, Nieuwendijk 53\, Someren-Eind\, Nederland
CATEGORIES:NWB
ORGANIZER;CN="TWC de Zwaluw":MAILTO:info@twcdezwaluw.nl
END:VEVENT
END:VCALENDAR